BEGIN:VCALENDAR
VERSION:2.0
PRODID:-//Flynn Rink - ECPv5.3.0//NONSGML v1.0//EN
CALSCALE:GREGORIAN
METHOD:PUBLISH
X-WR-CALNAME:Flynn Rink
X-ORIGINAL-URL:https://flynnrink.com
X-WR-CALDESC:Events for Flynn Rink
BEGIN:VTIMEZONE
TZID:America/New_York
BEGIN:DAYLIGHT
TZOFFSETFROM:-0500
TZOFFSETTO:-0400
TZNAME:EDT
DTSTART:20200308T070000
END:DAYLIGHT
BEGIN:STANDARD
TZOFFSETFROM:-0400
TZOFFSETTO:-0500
TZNAME:EST
DTSTART:20201101T060000
END:STANDARD
END:VTIMEZONE
BEGIN:VEVENT
DTSTART;TZID=America/New_York:20200909T070000
DTEND;TZID=America/New_York:20200909T110000
DTSTAMP:20260425T184916
CREATED:20200909T145230Z
LAST-MODIFIED:20200917T180100Z
UID:12505-1599634800-1599649200@flynnrink.com
SUMMARY:FREESTYLE $17- PRESS ENROLL/BUY TAB TO SIGN UP
DESCRIPTION:
URL:https://flynnrink.com/event/freestyle-17-press-enrollbuy-tab-sign/2020-09-09/
CATEGORIES:Freestyle $17 PER SKATER
END:VEVENT
BEGIN:VEVENT
DTSTART;TZID=America/New_York:20200909T153000
DTEND;TZID=America/New_York:20200909T165000
DTSTAMP:20260425T184916
CREATED:20200909T174747Z
LAST-MODIFIED:20200917T200015Z
UID:12516-1599665400-1599670200@flynnrink.com
SUMMARY:YOUTH STICK PRACTICE $17- PRESS ENROLL/BUY TAB TO SIGN UP
DESCRIPTION:MUST BE FULLY GEARED \nMUST BE 14 AND UNDER. \n20 PERSON MAX
URL:https://flynnrink.com/event/youth-stick-practice-17-press-enroll-buy-tab-to-sign-up/2020-09-09/
CATEGORIES:Youth Stick Practice $17 Per Player
END:VEVENT
END:VCALENDAR