BEGIN:VCALENDAR
VERSION:2.0
PRODID:-//Flynn Rink - ECPv5.3.0//NONSGML v1.0//EN
CALSCALE:GREGORIAN
METHOD:PUBLISH
X-WR-CALNAME:Flynn Rink
X-ORIGINAL-URL:https://flynnrink.com
X-WR-CALDESC:Events for Flynn Rink
BEGIN:VTIMEZONE
TZID:America/New_York
BEGIN:DAYLIGHT
TZOFFSETFROM:-0500
TZOFFSETTO:-0400
TZNAME:EDT
DTSTART:20200308T070000
END:DAYLIGHT
BEGIN:STANDARD
TZOFFSETFROM:-0400
TZOFFSETTO:-0500
TZNAME:EST
DTSTART:20201101T060000
END:STANDARD
END:VTIMEZONE
BEGIN:VEVENT
DTSTART;VALUE=DATE:20200908
DTEND;VALUE=DATE:20200909
DTSTAMP:20260425T171311
CREATED:20200827T142937Z
LAST-MODIFIED:20200827T142937Z
UID:12495-1599523200-1599609599@flynnrink.com
SUMMARY:FLYNN OPENS FOR THE SEASON!
DESCRIPTION:
URL:https://flynnrink.com/event/flynn-opens-season-2/
CATEGORIES:General Info
END:VEVENT
END:VCALENDAR