BEGIN:VCALENDAR
VERSION:2.0
PRODID:-//Flynn Rink - ECPv5.3.0//NONSGML v1.0//EN
CALSCALE:GREGORIAN
METHOD:PUBLISH
X-WR-CALNAME:Flynn Rink
X-ORIGINAL-URL:https://flynnrink.com
X-WR-CALDESC:Events for Flynn Rink
BEGIN:VTIMEZONE
TZID:America/New_York
BEGIN:DAYLIGHT
TZOFFSETFROM:-0500
TZOFFSETTO:-0400
TZNAME:EDT
DTSTART:20170312T070000
END:DAYLIGHT
BEGIN:STANDARD
TZOFFSETFROM:-0400
TZOFFSETTO:-0500
TZNAME:EST
DTSTART:20171105T060000
END:STANDARD
END:VTIMEZONE
BEGIN:VEVENT
DTSTART;TZID=America/New_York:20170916T142000
DTEND;TZID=America/New_York:20170916T150000
DTSTAMP:20260421T170126
CREATED:20170725T150247Z
LAST-MODIFIED:20170725T150247Z
UID:635-1505571600-1505574000@flynnrink.com
SUMMARY:LTSUSA FALL I
DESCRIPTION:Please see enrollment tab for more information.
URL:https://flynnrink.com/event/ltsusa-fall-i-6/2017-09-16/
CATEGORIES:Learn to Skate
END:VEVENT
BEGIN:VEVENT
DTSTART;TZID=America/New_York:20170916T151000
DTEND;TZID=America/New_York:20170916T155000
DTSTAMP:20260421T170126
CREATED:20170725T145634Z
LAST-MODIFIED:20170725T145853Z
UID:619-1505574600-1505577000@flynnrink.com
SUMMARY:LTSUSA FALL I
DESCRIPTION:Please see enrollment tab for more information.
URL:https://flynnrink.com/event/ltsusa-fall-i-5/2017-09-16/
CATEGORIES:Learn to Skate
END:VEVENT
END:VCALENDAR