BEGIN:VCALENDAR
VERSION:2.0
PRODID:-//Flynn Rink - ECPv5.3.0//NONSGML v1.0//EN
CALSCALE:GREGORIAN
METHOD:PUBLISH
X-WR-CALNAME:Flynn Rink
X-ORIGINAL-URL:https://flynnrink.com
X-WR-CALDESC:Events for Flynn Rink
BEGIN:VTIMEZONE
TZID:America/New_York
BEGIN:DAYLIGHT
TZOFFSETFROM:-0500
TZOFFSETTO:-0400
TZNAME:EDT
DTSTART:20170312T070000
END:DAYLIGHT
BEGIN:STANDARD
TZOFFSETFROM:-0400
TZOFFSETTO:-0500
TZNAME:EST
DTSTART:20171105T060000
END:STANDARD
END:VTIMEZONE
BEGIN:VEVENT
DTSTART;TZID=America/New_York:20171122T153000
DTEND;TZID=America/New_York:20171122T163000
DTSTAMP:20260422T150938
CREATED:20171104T165548Z
LAST-MODIFIED:20171120T182603Z
UID:997-1511364600-1511368200@flynnrink.com
SUMMARY:Youth Stick and Puck
DESCRIPTION:
URL:https://flynnrink.com/event/youth-stick-puck/
CATEGORIES:Youth Stick Practice $17 Per Player
END:VEVENT
END:VCALENDAR