BEGIN:VCALENDAR
VERSION:2.0
PRODID:-//Flynn Rink - ECPv5.3.0//NONSGML v1.0//EN
CALSCALE:GREGORIAN
METHOD:PUBLISH
X-WR-CALNAME:Flynn Rink
X-ORIGINAL-URL:https://flynnrink.com
X-WR-CALDESC:Events for Flynn Rink
BEGIN:VTIMEZONE
TZID:America/New_York
BEGIN:DAYLIGHT
TZOFFSETFROM:-0500
TZOFFSETTO:-0400
TZNAME:EDT
DTSTART:20170312T070000
END:DAYLIGHT
BEGIN:STANDARD
TZOFFSETFROM:-0400
TZOFFSETTO:-0500
TZNAME:EST
DTSTART:20171105T060000
END:STANDARD
END:VTIMEZONE
BEGIN:VEVENT
DTSTART;TZID=America/New_York:20171227T144000
DTEND;TZID=America/New_York:20171227T155500
DTSTAMP:20260420T105635
CREATED:20171128T164606Z
LAST-MODIFIED:20171128T164606Z
UID:1265-1514385600-1514390100@flynnrink.com
SUMMARY:Youth Stick Practice (Mini Rink)
DESCRIPTION:$10 admission.\nFull Gear Required!\nMust be 13 years or younger to skate
URL:https://flynnrink.com/event/youth-stick-practice-mini-rink-4/
CATEGORIES:Youth Stick Practice $17 Per Player
END:VEVENT
END:VCALENDAR