BEGIN:VCALENDAR
VERSION:2.0
PRODID:-//Flynn Rink - ECPv5.3.0//NONSGML v1.0//EN
CALSCALE:GREGORIAN
METHOD:PUBLISH
X-WR-CALNAME:Flynn Rink
X-ORIGINAL-URL:https://flynnrink.com
X-WR-CALDESC:Events for Flynn Rink
BEGIN:VTIMEZONE
TZID:America/New_York
BEGIN:DAYLIGHT
TZOFFSETFROM:-0500
TZOFFSETTO:-0400
TZNAME:EDT
DTSTART:20170312T070000
END:DAYLIGHT
BEGIN:STANDARD
TZOFFSETFROM:-0400
TZOFFSETTO:-0500
TZNAME:EST
DTSTART:20171105T060000
END:STANDARD
END:VTIMEZONE
BEGIN:VEVENT
DTSTART;TZID=America/New_York:20170221T130000
DTEND;TZID=America/New_York:20170221T135000
DTSTAMP:20260424T031722
CREATED:20170208T222900Z
LAST-MODIFIED:20170208T222900Z
UID:547-1487682000-1487685000@flynnrink.com
SUMMARY:Stick Practice (Youth)
DESCRIPTION:Skaters must have full gear. $10 per skater. Parents assisting are free of charge and must be wearing a helmet.
URL:https://flynnrink.com/event/stick-practice-youth/
END:VEVENT
END:VCALENDAR