BEGIN:VCALENDAR
VERSION:2.0
PRODID:-//Flynn Rink - ECPv5.3.0//NONSGML v1.0//EN
CALSCALE:GREGORIAN
METHOD:PUBLISH
X-WR-CALNAME:Flynn Rink
X-ORIGINAL-URL:https://flynnrink.com
X-WR-CALDESC:Events for Flynn Rink
BEGIN:VTIMEZONE
TZID:America/New_York
BEGIN:DAYLIGHT
TZOFFSETFROM:-0500
TZOFFSETTO:-0400
TZNAME:EDT
DTSTART:20170312T070000
END:DAYLIGHT
BEGIN:STANDARD
TZOFFSETFROM:-0400
TZOFFSETTO:-0500
TZNAME:EST
DTSTART:20171105T060000
END:STANDARD
END:VTIMEZONE
BEGIN:VEVENT
DTSTART;TZID=America/New_York:20170223T120000
DTEND;TZID=America/New_York:20170223T131000
DTSTAMP:20260423T175346
CREATED:20170201T183005Z
LAST-MODIFIED:20170201T183005Z
UID:450-1487851200-1487855400@flynnrink.com
SUMMARY:Stick Practice (Adult & Youth)
DESCRIPTION:Must have full gear. Must be 16 years of age or older to play on the big rink. Please call 781-396-8500 to reserve a spot. Under 16 years of age are allowed to play on the mini rink. $10 charge for every skater.
URL:https://flynnrink.com/event/stick-practice-adult-youth/
END:VEVENT
END:VCALENDAR