BEGIN:VCALENDAR
VERSION:2.0
PRODID:-//Flynn Rink - ECPv5.3.0//NONSGML v1.0//EN
CALSCALE:GREGORIAN
METHOD:PUBLISH
X-WR-CALNAME:Flynn Rink
X-ORIGINAL-URL:https://flynnrink.com
X-WR-CALDESC:Events for Flynn Rink
BEGIN:VTIMEZONE
TZID:America/New_York
BEGIN:DAYLIGHT
TZOFFSETFROM:-0500
TZOFFSETTO:-0400
TZNAME:EDT
DTSTART:20170312T070000
END:DAYLIGHT
BEGIN:STANDARD
TZOFFSETFROM:-0400
TZOFFSETTO:-0500
TZNAME:EST
DTSTART:20171105T060000
END:STANDARD
END:VTIMEZONE
BEGIN:VEVENT
DTSTART;TZID=America/New_York:20170202T120000
DTEND;TZID=America/New_York:20170202T132000
DTSTAMP:20260424T182452
CREATED:20170201T183920Z
LAST-MODIFIED:20170201T183920Z
UID:473-1486036800-1486041600@flynnrink.com
SUMMARY:Stick Practice
DESCRIPTION:Must be 16 years of age or older to play. Must have full equipment to play. $10.00 per skater.
URL:https://flynnrink.com/event/stick-practice-3/2017-02-02/
END:VEVENT
END:VCALENDAR