BEGIN:VCALENDAR
VERSION:2.0
PRODID:-//Flynn Rink - ECPv5.3.0//NONSGML v1.0//EN
CALSCALE:GREGORIAN
METHOD:PUBLISH
X-WR-CALNAME:Flynn Rink
X-ORIGINAL-URL:https://flynnrink.com
X-WR-CALDESC:Events for Flynn Rink
BEGIN:VTIMEZONE
TZID:America/New_York
BEGIN:DAYLIGHT
TZOFFSETFROM:-0500
TZOFFSETTO:-0400
TZNAME:EDT
DTSTART:20190310T070000
END:DAYLIGHT
BEGIN:STANDARD
TZOFFSETFROM:-0400
TZOFFSETTO:-0500
TZNAME:EST
DTSTART:20191103T060000
END:STANDARD
END:VTIMEZONE
BEGIN:VEVENT
DTSTART;TZID=America/New_York:20191224T121000
DTEND;TZID=America/New_York:20191224T140000
DTSTAMP:20260423T192106
CREATED:20191125T164301Z
LAST-MODIFIED:20191126T190351Z
UID:3443-1577189400-1577196000@flynnrink.com
SUMMARY:Public Skating (UGLY SWEATER CONTEST) WIN PRIZES FOR BEST SWEATER
DESCRIPTION:
URL:https://flynnrink.com/event/public-skating-80/
CATEGORIES:Public Skate $5 Admission ages 4 and up.
END:VEVENT
END:VCALENDAR