BEGIN:VCALENDAR
VERSION:2.0
PRODID:-//Flynn Rink - ECPv5.3.0//NONSGML v1.0//EN
CALSCALE:GREGORIAN
METHOD:PUBLISH
X-WR-CALNAME:Flynn Rink
X-ORIGINAL-URL:https://flynnrink.com
X-WR-CALDESC:Events for Flynn Rink
BEGIN:VTIMEZONE
TZID:America/New_York
BEGIN:DAYLIGHT
TZOFFSETFROM:-0500
TZOFFSETTO:-0400
TZNAME:EDT
DTSTART:20190310T070000
END:DAYLIGHT
BEGIN:STANDARD
TZOFFSETFROM:-0400
TZOFFSETTO:-0500
TZNAME:EST
DTSTART:20191103T060000
END:STANDARD
END:VTIMEZONE
BEGIN:VEVENT
DTSTART;TZID=America/New_York:20191231T120000
DTEND;TZID=America/New_York:20191231T140000
DTSTAMP:20260424T101926
CREATED:20191115T172801Z
LAST-MODIFIED:20191126T194930Z
UID:3348-1577793600-1577800800@flynnrink.com
SUMMARY:FAMILY SKATE (Families over 6 members\, get the rest in free. Limit 10 per family)
DESCRIPTION:$5 ADMISSION AGES 4 AND UP \n$5 SKATE RENTALS AVAILABLE
URL:https://flynnrink.com/event/public-skating-78-2019-12-31/
CATEGORIES:Public Skate $5 Admission ages 4 and up.
END:VEVENT
END:VCALENDAR