BEGIN:VCALENDAR
VERSION:2.0
PRODID:-//Flynn Rink - ECPv5.3.0//NONSGML v1.0//EN
CALSCALE:GREGORIAN
METHOD:PUBLISH
X-WR-CALNAME:Flynn Rink
X-ORIGINAL-URL:https://flynnrink.com
X-WR-CALDESC:Events for Flynn Rink
BEGIN:VTIMEZONE
TZID:America/New_York
BEGIN:DAYLIGHT
TZOFFSETFROM:-0500
TZOFFSETTO:-0400
TZNAME:EDT
DTSTART:20190310T070000
END:DAYLIGHT
BEGIN:STANDARD
TZOFFSETFROM:-0400
TZOFFSETTO:-0500
TZNAME:EST
DTSTART:20191103T060000
END:STANDARD
END:VTIMEZONE
BEGIN:VEVENT
DTSTART;TZID=America/New_York:20191127T120000
DTEND;TZID=America/New_York:20191127T145000
DTSTAMP:20260425T192129
CREATED:20191107T184238Z
LAST-MODIFIED:20191107T184238Z
UID:3288-1574856000-1574866200@flynnrink.com
SUMMARY:PUBLIC SKATING
DESCRIPTION:$5 Admission \n$5 Skate Rentals.
URL:https://flynnrink.com/event/public-skating-76/
CATEGORIES:Public Skate $5 Admission ages 4 and up.
END:VEVENT
END:VCALENDAR