BEGIN:VCALENDAR
VERSION:2.0
PRODID:-//Flynn Rink - ECPv5.3.0//NONSGML v1.0//EN
CALSCALE:GREGORIAN
METHOD:PUBLISH
X-WR-CALNAME:Flynn Rink
X-ORIGINAL-URL:https://flynnrink.com
X-WR-CALDESC:Events for Flynn Rink
BEGIN:VTIMEZONE
TZID:America/New_York
BEGIN:DAYLIGHT
TZOFFSETFROM:-0500
TZOFFSETTO:-0400
TZNAME:EDT
DTSTART:20190310T070000
END:DAYLIGHT
BEGIN:STANDARD
TZOFFSETFROM:-0400
TZOFFSETTO:-0500
TZNAME:EST
DTSTART:20191103T060000
END:STANDARD
END:VTIMEZONE
BEGIN:VEVENT
DTSTART;TZID=America/New_York:20191205T120000
DTEND;TZID=America/New_York:20191205T155000
DTSTAMP:20260424T122916
CREATED:20180904T215547Z
LAST-MODIFIED:20191125T225023Z
UID:3329-1575547200-1575561000@flynnrink.com
SUMMARY:PUBLIC SKATING
DESCRIPTION:$5 PER SKATER OVER THE AGE OF 3 \nSkate Rentals available $5.00 per pair
URL:https://flynnrink.com/event/public-skating-29-2018-11-07-2019-11-14-2019-12-05/
CATEGORIES:Public Skate $5 Admission ages 4 and up.
END:VEVENT
END:VCALENDAR