BEGIN:VCALENDAR
VERSION:2.0
PRODID:-//Flynn Rink - ECPv5.3.0//NONSGML v1.0//EN
CALSCALE:GREGORIAN
METHOD:PUBLISH
X-WR-CALNAME:Flynn Rink
X-ORIGINAL-URL:https://flynnrink.com
X-WR-CALDESC:Events for Flynn Rink
BEGIN:VTIMEZONE
TZID:America/New_York
BEGIN:DAYLIGHT
TZOFFSETFROM:-0500
TZOFFSETTO:-0400
TZNAME:EDT
DTSTART:20170312T070000
END:DAYLIGHT
BEGIN:STANDARD
TZOFFSETFROM:-0400
TZOFFSETTO:-0500
TZNAME:EST
DTSTART:20171105T060000
END:STANDARD
END:VTIMEZONE
BEGIN:VEVENT
DTSTART;TZID=America/New_York:20171222T120000
DTEND;TZID=America/New_York:20171222T143000
DTSTAMP:20260421T055415
CREATED:20171128T161949Z
LAST-MODIFIED:20180315T182351Z
UID:1213-1513944000-1513953000@flynnrink.com
SUMMARY:Public Skating
DESCRIPTION:$5 admission. $5 skate rentals \nHelmets highly recommended
URL:https://flynnrink.com/event/public-skating-20/2017-12-22/
CATEGORIES:Public Skate $5 Admission ages 4 and up.
END:VEVENT
END:VCALENDAR