BEGIN:VCALENDAR
VERSION:2.0
PRODID:-//Flynn Rink - ECPv5.3.0//NONSGML v1.0//EN
CALSCALE:GREGORIAN
METHOD:PUBLISH
X-WR-CALNAME:Flynn Rink
X-ORIGINAL-URL:https://flynnrink.com
X-WR-CALDESC:Events for Flynn Rink
BEGIN:VTIMEZONE
TZID:America/New_York
BEGIN:DAYLIGHT
TZOFFSETFROM:-0500
TZOFFSETTO:-0400
TZNAME:EDT
DTSTART:20170312T070000
END:DAYLIGHT
BEGIN:STANDARD
TZOFFSETFROM:-0400
TZOFFSETTO:-0500
TZNAME:EST
DTSTART:20171105T060000
END:STANDARD
END:VTIMEZONE
BEGIN:VEVENT
DTSTART;TZID=America/New_York:20171201T200000
DTEND;TZID=America/New_York:20171201T211000
DTSTAMP:20260421T215423
CREATED:20171002T154622Z
LAST-MODIFIED:20171016T174406Z
UID:824-1512158400-1512162600@flynnrink.com
SUMMARY:Public Skating
DESCRIPTION:$5 Admission \n$5 Rental Skates \nHelmets highly recommended.
URL:https://flynnrink.com/event/public-skating-11-2017-12-01/2017-12-01/
CATEGORIES:Public Skate $5 Admission ages 4 and up.
END:VEVENT
END:VCALENDAR