BEGIN:VCALENDAR
VERSION:2.0
PRODID:-//Flynn Rink - ECPv5.3.0//NONSGML v1.0//EN
CALSCALE:GREGORIAN
METHOD:PUBLISH
X-WR-CALNAME:Flynn Rink
X-ORIGINAL-URL:https://flynnrink.com
X-WR-CALDESC:Events for Flynn Rink
BEGIN:VTIMEZONE
TZID:America/New_York
BEGIN:DAYLIGHT
TZOFFSETFROM:-0500
TZOFFSETTO:-0400
TZNAME:EDT
DTSTART:20170312T070000
END:DAYLIGHT
BEGIN:STANDARD
TZOFFSETFROM:-0400
TZOFFSETTO:-0500
TZNAME:EST
DTSTART:20171105T060000
END:STANDARD
END:VTIMEZONE
BEGIN:VEVENT
DTSTART;TZID=America/New_York:20170318T180000
DTEND;TZID=America/New_York:20170318T195000
DTSTAMP:20260421T150323
CREATED:20170302T205225Z
LAST-MODIFIED:20170302T214221Z
UID:557-1489860000-1489866600@flynnrink.com
SUMMARY:Public Skate
DESCRIPTION:$5.00 cover for everyone 4 and up. \n$5.00 for skate rentals. \nHelmets are highly recommended.
URL:https://flynnrink.com/event/public-skate-600-750p/
CATEGORIES:Public Skate $5 Admission ages 4 and up.
END:VEVENT
END:VCALENDAR