BEGIN:VCALENDAR
VERSION:2.0
PRODID:-//Flynn Rink - ECPv5.3.0//NONSGML v1.0//EN
CALSCALE:GREGORIAN
METHOD:PUBLISH
X-WR-CALNAME:Flynn Rink
X-ORIGINAL-URL:https://flynnrink.com
X-WR-CALDESC:Events for Flynn Rink
BEGIN:VTIMEZONE
TZID:America/New_York
BEGIN:DAYLIGHT
TZOFFSETFROM:-0500
TZOFFSETTO:-0400
TZNAME:EDT
DTSTART:20170312T070000
END:DAYLIGHT
BEGIN:STANDARD
TZOFFSETFROM:-0400
TZOFFSETTO:-0500
TZNAME:EST
DTSTART:20171105T060000
END:STANDARD
END:VTIMEZONE
BEGIN:VEVENT
DTSTART;TZID=America/New_York:20170311T182000
DTEND;TZID=America/New_York:20170311T202000
DTSTAMP:20260421T182738
CREATED:20170201T184204Z
LAST-MODIFIED:20170202T184501Z
UID:480-1489256400-1489263600@flynnrink.com
SUMMARY:Public Skate
DESCRIPTION:$5.00 admission for everyone over the age of 4. $5.00 skate rental charge. Helmets highly recommended.
URL:https://flynnrink.com/event/public-skate-11-2017-03-11/
CATEGORIES:Public Skate $5 Admission ages 4 and up.
END:VEVENT
END:VCALENDAR