BEGIN:VCALENDAR
VERSION:2.0
PRODID:-//Flynn Rink - ECPv5.3.0//NONSGML v1.0//EN
CALSCALE:GREGORIAN
METHOD:PUBLISH
X-WR-CALNAME:Flynn Rink
X-ORIGINAL-URL:https://flynnrink.com
X-WR-CALDESC:Events for Flynn Rink
BEGIN:VTIMEZONE
TZID:America/New_York
BEGIN:DAYLIGHT
TZOFFSETFROM:-0500
TZOFFSETTO:-0400
TZNAME:EDT
DTSTART:20170312T070000
END:DAYLIGHT
BEGIN:STANDARD
TZOFFSETFROM:-0400
TZOFFSETTO:-0500
TZNAME:EST
DTSTART:20171105T060000
END:STANDARD
END:VTIMEZONE
BEGIN:VEVENT
DTSTART;VALUE=DATE:20170217
DTEND;VALUE=DATE:20170218
DTSTAMP:20260424T105316
CREATED:20170201T185916Z
LAST-MODIFIED:20170201T185916Z
UID:540-1487289600-1487375999@flynnrink.com
SUMMARY:NO AFTERNOON PUBLIC SKATE TODAY
DESCRIPTION:Sorry for any inconvenience.
URL:https://flynnrink.com/event/no-afternoon-public-skate-today-2/
CATEGORIES:General Info
END:VEVENT
END:VCALENDAR