BEGIN:VCALENDAR
VERSION:2.0
PRODID:-//Flynn Rink - ECPv5.3.0//NONSGML v1.0//EN
CALSCALE:GREGORIAN
METHOD:PUBLISH
X-WR-CALNAME:Flynn Rink
X-ORIGINAL-URL:https://flynnrink.com
X-WR-CALDESC:Events for Flynn Rink
BEGIN:VTIMEZONE
TZID:America/New_York
BEGIN:DAYLIGHT
TZOFFSETFROM:-0500
TZOFFSETTO:-0400
TZNAME:EDT
DTSTART:20200308T070000
END:DAYLIGHT
BEGIN:STANDARD
TZOFFSETFROM:-0400
TZOFFSETTO:-0500
TZNAME:EST
DTSTART:20201101T060000
END:STANDARD
END:VTIMEZONE
BEGIN:VEVENT
DTSTART;TZID=America/New_York:20200119T163000
DTEND;TZID=America/New_York:20200119T203000
DTSTAMP:20260425T215022
CREATED:20200115T122933Z
LAST-MODIFIED:20200115T122933Z
UID:3640-1579451400-1579465800@flynnrink.com
SUMMARY:MINI RINK AVAILABLE. CALL JACQUI TO RENT ICE 781.396.8500
DESCRIPTION:
URL:https://flynnrink.com/event/mini-rink-available-call-jacqui-rent-ice-781-396-8500-2/
CATEGORIES:General Info
END:VEVENT
END:VCALENDAR