BEGIN:VCALENDAR
VERSION:2.0
PRODID:-//Flynn Rink - ECPv5.3.0//NONSGML v1.0//EN
CALSCALE:GREGORIAN
METHOD:PUBLISH
X-WR-CALNAME:Flynn Rink
X-ORIGINAL-URL:https://flynnrink.com
X-WR-CALDESC:Events for Flynn Rink
BEGIN:VTIMEZONE
TZID:America/New_York
BEGIN:DAYLIGHT
TZOFFSETFROM:-0500
TZOFFSETTO:-0400
TZNAME:EDT
DTSTART:20170312T070000
END:DAYLIGHT
BEGIN:STANDARD
TZOFFSETFROM:-0400
TZOFFSETTO:-0500
TZNAME:EST
DTSTART:20171105T060000
END:STANDARD
END:VTIMEZONE
BEGIN:VEVENT
DTSTART;TZID=America/New_York:20170107T142000
DTEND;TZID=America/New_York:20170107T160000
DTSTAMP:20260425T102710
CREATED:20170112T171542Z
LAST-MODIFIED:20170112T171542Z
UID:269-1483798800-1483804800@flynnrink.com
SUMMARY:LTSUSA WINTER
DESCRIPTION:
URL:https://flynnrink.com/event/ltsusa-winter-4/2017-01-07/
CATEGORIES:Learn to Skate
END:VEVENT
END:VCALENDAR