BEGIN:VCALENDAR
VERSION:2.0
PRODID:-//Flynn Rink - ECPv5.3.0//NONSGML v1.0//EN
CALSCALE:GREGORIAN
METHOD:PUBLISH
X-WR-CALNAME:Flynn Rink
X-ORIGINAL-URL:https://flynnrink.com
X-WR-CALDESC:Events for Flynn Rink
BEGIN:VTIMEZONE
TZID:America/New_York
BEGIN:DAYLIGHT
TZOFFSETFROM:-0500
TZOFFSETTO:-0400
TZNAME:EDT
DTSTART:20170312T070000
END:DAYLIGHT
BEGIN:STANDARD
TZOFFSETFROM:-0400
TZOFFSETTO:-0500
TZNAME:EST
DTSTART:20171105T060000
END:STANDARD
END:VTIMEZONE
BEGIN:VEVENT
DTSTART;TZID=America/New_York:20170225T151000
DTEND;TZID=America/New_York:20170225T155000
DTSTAMP:20260422T143028
CREATED:20170201T185646Z
LAST-MODIFIED:20170203T135659Z
UID:519-1488035400-1488037800@flynnrink.com
SUMMARY:LTSUSA SPRING
DESCRIPTION:Must be registered to join. Please see our enrollment tab for more information about our Learn to Skate USA program.
URL:https://flynnrink.com/event/ltsusa-spring-5/2017-02-25/
CATEGORIES:Learn to Skate
END:VEVENT
END:VCALENDAR