BEGIN:VCALENDAR
VERSION:2.0
PRODID:-//Flynn Rink - ECPv5.3.0//NONSGML v1.0//EN
CALSCALE:GREGORIAN
METHOD:PUBLISH
X-WR-CALNAME:Flynn Rink
X-ORIGINAL-URL:https://flynnrink.com
X-WR-CALDESC:Events for Flynn Rink
BEGIN:VTIMEZONE
TZID:America/New_York
BEGIN:DAYLIGHT
TZOFFSETFROM:-0500
TZOFFSETTO:-0400
TZNAME:EDT
DTSTART:20170312T070000
END:DAYLIGHT
BEGIN:STANDARD
TZOFFSETFROM:-0400
TZOFFSETTO:-0500
TZNAME:EST
DTSTART:20171105T060000
END:STANDARD
END:VTIMEZONE
BEGIN:VEVENT
DTSTART;TZID=America/New_York:20170223T152000
DTEND;TZID=America/New_York:20170223T160000
DTSTAMP:20260423T161211
CREATED:20170201T182327Z
LAST-MODIFIED:20170203T135916Z
UID:441-1487863200-1487865600@flynnrink.com
SUMMARY:LTSUSA SPRING
DESCRIPTION:Must be registered to join. Please see enrollment tab for more information regarding our Learn to Skate USA program.
URL:https://flynnrink.com/event/ltsusa-spring-4/2017-02-23/
CATEGORIES:Learn to Skate
END:VEVENT
END:VCALENDAR