BEGIN:VCALENDAR
VERSION:2.0
PRODID:-//Flynn Rink - ECPv5.3.0//NONSGML v1.0//EN
CALSCALE:GREGORIAN
METHOD:PUBLISH
X-WR-CALNAME:Flynn Rink
X-ORIGINAL-URL:https://flynnrink.com
X-WR-CALDESC:Events for Flynn Rink
BEGIN:VTIMEZONE
TZID:America/New_York
BEGIN:DAYLIGHT
TZOFFSETFROM:-0500
TZOFFSETTO:-0400
TZNAME:EDT
DTSTART:20170312T070000
END:DAYLIGHT
BEGIN:STANDARD
TZOFFSETFROM:-0400
TZOFFSETTO:-0500
TZNAME:EST
DTSTART:20171105T060000
END:STANDARD
END:VTIMEZONE
BEGIN:VEVENT
DTSTART;TZID=America/New_York:20171028T151000
DTEND;TZID=America/New_York:20171028T155000
DTSTAMP:20260423T122647
CREATED:20171002T155020Z
LAST-MODIFIED:20171002T155030Z
UID:830-1509203400-1509205800@flynnrink.com
SUMMARY:LTSUSA FALL II
DESCRIPTION:Please see our enrollment tab for more information
URL:https://flynnrink.com/event/ltsusa-fall-ii-5/2017-10-28/
CATEGORIES:Learn to Skate
END:VEVENT
END:VCALENDAR