BEGIN:VCALENDAR
VERSION:2.0
PRODID:-//Flynn Rink - ECPv5.3.0//NONSGML v1.0//EN
CALSCALE:GREGORIAN
METHOD:PUBLISH
X-WR-CALNAME:Flynn Rink
X-ORIGINAL-URL:https://flynnrink.com
X-WR-CALDESC:Events for Flynn Rink
BEGIN:VTIMEZONE
TZID:America/New_York
BEGIN:DAYLIGHT
TZOFFSETFROM:-0500
TZOFFSETTO:-0400
TZNAME:EDT
DTSTART:20170312T070000
END:DAYLIGHT
BEGIN:STANDARD
TZOFFSETFROM:-0400
TZOFFSETTO:-0500
TZNAME:EST
DTSTART:20171105T060000
END:STANDARD
END:VTIMEZONE
BEGIN:VEVENT
DTSTART;TZID=America/New_York:20170914T161000
DTEND;TZID=America/New_York:20170914T165000
DTSTAMP:20260421T220851
CREATED:20170725T144724Z
LAST-MODIFIED:20170725T145707Z
UID:590-1505405400-1505407800@flynnrink.com
SUMMARY:LTSUSA FALL I
DESCRIPTION:Please see enrollment tab for more information.
URL:https://flynnrink.com/event/ltsusa-fall-i/2017-09-14/
CATEGORIES:Learn to Skate
END:VEVENT
END:VCALENDAR