BEGIN:VCALENDAR
VERSION:2.0
PRODID:-//Flynn Rink - ECPv5.3.0//NONSGML v1.0//EN
CALSCALE:GREGORIAN
METHOD:PUBLISH
X-WR-CALNAME:Flynn Rink
X-ORIGINAL-URL:https://flynnrink.com
X-WR-CALDESC:Events for Flynn Rink
BEGIN:VTIMEZONE
TZID:America/New_York
BEGIN:DAYLIGHT
TZOFFSETFROM:-0500
TZOFFSETTO:-0400
TZNAME:EDT
DTSTART:20170312T070000
END:DAYLIGHT
BEGIN:STANDARD
TZOFFSETFROM:-0400
TZOFFSETTO:-0500
TZNAME:EST
DTSTART:20171105T060000
END:STANDARD
END:VTIMEZONE
BEGIN:VEVENT
DTSTART;TZID=America/New_York:20171028T180000
DTEND;TZID=America/New_York:20171028T195000
DTSTAMP:20260423T104736
CREATED:20171016T173811Z
LAST-MODIFIED:20171018T152331Z
UID:866-1509213600-1509220200@flynnrink.com
SUMMARY:Halloween Public Skate! TOP 3 COSTUMES RECEIVE PRIZES!
DESCRIPTION:
URL:https://flynnrink.com/event/halloween-public-skate-best-costume-wins-2-free-public-skate-passes/
CATEGORIES:Public Skate $5 Admission ages 4 and up.
END:VEVENT
END:VCALENDAR