BEGIN:VCALENDAR
VERSION:2.0
PRODID:-//Flynn Rink - ECPv5.3.0//NONSGML v1.0//EN
CALSCALE:GREGORIAN
METHOD:PUBLISH
X-WR-CALNAME:Flynn Rink
X-ORIGINAL-URL:https://flynnrink.com
X-WR-CALDESC:Events for Flynn Rink
BEGIN:VTIMEZONE
TZID:America/New_York
BEGIN:DAYLIGHT
TZOFFSETFROM:-0500
TZOFFSETTO:-0400
TZNAME:EDT
DTSTART:20200308T070000
END:DAYLIGHT
BEGIN:STANDARD
TZOFFSETFROM:-0400
TZOFFSETTO:-0500
TZNAME:EST
DTSTART:20201101T060000
END:STANDARD
END:VTIMEZONE
BEGIN:VEVENT
DTSTART;TZID=America/New_York:20200101T120000
DTEND;TZID=America/New_York:20200101T125000
DTSTAMP:20260424T160515
CREATED:20191216T230635Z
LAST-MODIFIED:20191216T230647Z
UID:3610-1577880000-1577883000@flynnrink.com
SUMMARY:H.S./COLLEGE STICK PRACTICE
DESCRIPTION:
URL:https://flynnrink.com/event/h-s-college-stick-practice-3/
CATEGORIES:Youth Stick Practice $17 Per Player
END:VEVENT
END:VCALENDAR