BEGIN:VCALENDAR
VERSION:2.0
PRODID:-//Flynn Rink - ECPv5.3.0//NONSGML v1.0//EN
CALSCALE:GREGORIAN
METHOD:PUBLISH
X-WR-CALNAME:Flynn Rink
X-ORIGINAL-URL:https://flynnrink.com
X-WR-CALDESC:Events for Flynn Rink
BEGIN:VTIMEZONE
TZID:America/New_York
BEGIN:DAYLIGHT
TZOFFSETFROM:-0500
TZOFFSETTO:-0400
TZNAME:EDT
DTSTART:20190310T070000
END:DAYLIGHT
BEGIN:STANDARD
TZOFFSETFROM:-0400
TZOFFSETTO:-0500
TZNAME:EST
DTSTART:20191103T060000
END:STANDARD
END:VTIMEZONE
BEGIN:VEVENT
DTSTART;TZID=America/New_York:20191211T063000
DTEND;TZID=America/New_York:20191211T080000
DTSTAMP:20260423T232853
CREATED:20190830T200227Z
LAST-MODIFIED:20191203T193140Z
UID:3168-1576045800-1576051200@flynnrink.com
SUMMARY:Freestyle & Hockey Lessons (Mini Rink Only)
DESCRIPTION:$15 per Skater
URL:https://flynnrink.com/event/freestyle-practice-ice-no-pucks-3-2019-12-11/
CATEGORIES:Freestyle $17 PER SKATER
END:VEVENT
END:VCALENDAR